BEGIN:VCALENDAR
VERSION:2.0
PRODID:-//West Suburban Community Pantry - ECPv6.15.19//NONSGML v1.0//EN
CALSCALE:GREGORIAN
METHOD:PUBLISH
X-WR-CALNAME:West Suburban Community Pantry
X-ORIGINAL-URL:https://wscpantry.org
X-WR-CALDESC:Events for West Suburban Community Pantry
REFRESH-INTERVAL;VALUE=DURATION:PT1H
X-Robots-Tag:noindex
X-PUBLISHED-TTL:PT1H
BEGIN:VTIMEZONE
TZID:UTC
BEGIN:STANDARD
TZOFFSETFROM:+0000
TZOFFSETTO:+0000
TZNAME:UTC
DTSTART:20240101T000000
END:STANDARD
END:VTIMEZONE
BEGIN:VEVENT
DTSTART;VALUE=DATE:20250907
DTEND;VALUE=DATE:20250908
DTSTAMP:20260423T113656
CREATED:20250519T135434Z
LAST-MODIFIED:20250724T170649Z
UID:245161-1757203200-1757289599@wscpantry.org
SUMMARY:Long Table Charity Dinner
DESCRIPTION:Tickets are available to purchase for the Long Table Charity Dinner benefitting West Suburban Community Pantry! Join us on Sunday\, September 7th for a beautiful night under the stars where you’ll enjoy a delicious 6-course gourmet meal with wine pairings prepared by the Chefs of Water Street. \nAttire: All White \n*Please RSVP by September 3\, 2025
URL:https://wscpantry.org/event/long-table/
LOCATION:Water Street Downtown Naperville\, Water St\, Naperville\, IL\, 60540\, United States
ORGANIZER;CN="West Suburban Community Pantry":MAILTO:acharles@wscpantry.org
END:VEVENT
END:VCALENDAR